Workbook

Sheet Summary
A1: Pinecrest Outdoor Supply: store sales, Q3 2026
A2: Pinecrest Outdoor Supply is a fictional company. Sample workbook for pdfconversionapi.com, released under CC0 1.0.
A4: Store | B4: July | C4: August | D4: September | E4: Q3 total | F4: Q2 total | G4: Change
A5: Bend, OR | B5: 136420 | C5: 146430 | D5: 146680 | E5: =SUM(B5:D5) -> 429530 | F5: 412300 | G5: =E5/F5-1 -> 0.041789959
A6: Boise, ID | B6: 112870 | C6: 98540 | D6: 100820 | E6: =SUM(B6:D6) -> 312230 | F6: 298750 | G6: =E6/F6-1 -> 0.045121339
A7: Missoula, MT | B7: 67730 | C7: 67200 | D7: 69890 | E7: =SUM(B7:D7) -> 204820 | F7: 187400 | G7: =E7/F7-1 -> 0.092956243
A8: Spokane, WA | B8: 127780 | C8: 131910 | D8: 132760 | E8: =SUM(B8:D8) -> 392450 | F8: 356900 | G8: =E8/F8-1 -> 0.099607733
A9: Flagstaff, AZ | B9: 89610 | C9: 87090 | D9: 81790 | E9: =SUM(B9:D9) -> 258490 | F9: 241600 | G9: =E9/F9-1 -> 0.06990894
A10: Durango, CO | B10: 73590 | C10: 67110 | D10: 76190 | E10: =SUM(B10:D10) -> 216890 | F10: 203150 | G10: =E10/F10-1 -> 0.067634753
A11: All stores | B11: =SUM(B5:B10) -> 608000 | C11: =SUM(C5:C10) -> 598280 | D11: =SUM(D5:D10) -> 608130 | E11: =SUM(E5:E10) -> 1814410 | F11: =SUM(F5:F10) -> 1700100 | G11: =E11/F11-1 -> 0.067237221

Sheet Orders
A1: Date | B1: Order | C1: Store | D1: Item | E1: Qty | F1: Unit price | G1: Sales tax | H1: Total
A2: 46267 | B2: PC-48102 | C2: Bend, OR | D2: Camp stove | E2: 2 | F2: 64.95 | G2: =ROUND(E2*F2*VLOOKUP("OR",Rates!$A$2:$B$7,2,FALSE()),2) -> 0 | H2: =E2*F2+G2 -> 129.9
A3: 46267 | B3: PC-48103 | C3: Boise, ID | D3: Two-person tent | E3: 1 | F3: 349 | G3: =ROUND(E3*F3*VLOOKUP("ID",Rates!$A$2:$B$7,2,FALSE()),2) -> 20.94 | H3: =E3*F3+G3 -> 369.94
A4: 46267 | B4: PC-48104 | C4: Missoula, MT | D4: Two-person tent | E4: 3 | F4: 349 | G4: =ROUND(E4*F4*VLOOKUP("MT",Rates!$A$2:$B$7,2,FALSE()),2) -> 0 | H4: =E4*F4+G4 -> 1047
A5: 46267 | B5: PC-48105 | C5: Durango, CO | D5: Water filter | E5: 1 | F5: 39.5 | G5: =ROUND(E5*F5*VLOOKUP("CO",Rates!$A$2:$B$7,2,FALSE()),2) -> 2.96 | H5: =E5*F5+G5 -> 42.46
A6: 46267 | B6: PC-48106 | C6: Missoula, MT | D6: Sleeping pad | E6: 1 | F6: 119 | G6: =ROUND(E6*F6*VLOOKUP("MT",Rates!$A$2:$B$7,2,FALSE()),2) -> 0 | H6: =E6*F6+G6 -> 119
A7: 46267 | B7: PC-48107 | C7: Bend, OR | D7: Daypack, 24 L | E7: 1 | F7: 109 | G7: =ROUND(E7*F7*VLOOKUP("OR",Rates!$A$2:$B$7,2,FALSE()),2) -> 0 | H7: =E7*F7+G7 -> 109
A8: 46267 | B8: PC-48108 | C8: Spokane, WA | D8: Two-person tent | E8: 1 | F8: 349 | G8: =ROUND(E8*F8*VLOOKUP("WA",Rates!$A$2:$B$7,2,FALSE()),2) -> 31.06 | H8: =E8*F8+G8 -> 380.06
A9: 46268 | B9: PC-48109 | C9: Flagstaff, AZ | D9: Trekking poles, pair | E9: 2 | F9: 99 | G9: =ROUND(E9*F9*VLOOKUP("AZ",Rates!$A$2:$B$7,2,FALSE()),2) -> 17.84 | H9: =E9*F9+G9 -> 215.84
A10: 46268 | B10: PC-48110 | C10: Spokane, WA | D10: Trekking poles, pair | E10: 4 | F10: 99 | G10: =ROUND(E10*F10*VLOOKUP("WA",Rates!$A$2:$B$7,2,FALSE()),2) -> 35.24 | H10: =E10*F10+G10 -> 431.24
A11: 46269 | B11: PC-48111 | C11: Spokane, WA | D11: Trekking poles, pair | E11: 1 | F11: 99 | G11: =ROUND(E11*F11*VLOOKUP("WA",Rates!$A$2:$B$7,2,FALSE()),2) -> 8.81 | H11: =E11*F11+G11 -> 107.81
A12: 46270 | B12: PC-48112 | C12: Flagstaff, AZ | D12: Sleeping pad | E12: 2 | F12: 119 | G12: =ROUND(E12*F12*VLOOKUP("AZ",Rates!$A$2:$B$7,2,FALSE()),2) -> 21.44 | H12: =E12*F12+G12 -> 259.44
A13: 46270 | B13: PC-48113 | C13: Flagstaff, AZ | D13: Fleece pullover | E13: 4 | F13: 79 | G13: =ROUND(E13*F13*VLOOKUP("AZ",Rates!$A$2:$B$7,2,FALSE()),2) -> 28.47 | H13: =E13*F13+G13 -> 344.47
A14: 46270 | B14: PC-48114 | C14: Bend, OR | D14: Daypack, 24 L | E14: 2 | F14: 109 | G14: =ROUND(E14*F14*VLOOKUP("OR",Rates!$A$2:$B$7,2,FALSE()),2) -> 0 | H14: =E14*F14+G14 -> 218
A15: 46270 | B15: PC-48115 | C15: Durango, CO | D15: Wool socks, 3 pack | E15: 2 | F15: 32 | G15: =ROUND(E15*F15*VLOOKUP("CO",Rates!$A$2:$B$7,2,FALSE()),2) -> 4.79 | H15: =E15*F15+G15 -> 68.79
A16: 46271 | B16: PC-48116 | C16: Boise, ID | D16: Sleeping pad | E16: 1 | F16: 119 | G16: =ROUND(E16*F16*VLOOKUP("ID",Rates!$A$2:$B$7,2,FALSE()),2) -> 7.14 | H16: =E16*F16+G16 -> 126.14
A17: 46271 | B17: PC-48117 | C17: Durango, CO | D17: Daypack, 24 L | E17: 2 | F17: 109 | G17: =ROUND(E17*F17*VLOOKUP("CO",Rates!$A$2:$B$7,2,FALSE()),2) -> 16.33 | H17: =E17*F17+G17 -> 234.33
A18: 46272 | B18: PC-48118 | C18: Durango, CO | D18: Trekking poles, pair | E18: 1 | F18: 99 | G18: =ROUND(E18*F18*VLOOKUP("CO",Rates!$A$2:$B$7,2,FALSE()),2) -> 7.42 | H18: =E18*F18+G18 -> 106.42
A19: 46273 | B19: PC-48119 | C19: Durango, CO | D19: Headlamp, 400 lm | E19: 2 | F19: 44.95 | G19: =ROUND(E19*F19*VLOOKUP("CO",Rates!$A$2:$B$7,2,FALSE()),2) -> 6.73 | H19: =E19*F19+G19 -> 96.63
A20: 46274 | B20: PC-48120 | C20: Spokane, WA | D20: Two-person tent | E20: 1 | F20: 349 | G20: =ROUND(E20*F20*VLOOKUP("WA",Rates!$A$2:$B$7,2,FALSE()),2) -> 31.06 | H20: =E20*F20+G20 -> 380.06
A21: 46274 | B21: PC-48121 | C21: Missoula, MT | D21: Trail runner, men's | E21: 1 | F21: 129 | G21: =ROUND(E21*F21*VLOOKUP("MT",Rates!$A$2:$B$7,2,FALSE()),2) -> 0 | H21: =E21*F21+G21 -> 129
A22: 46274 | B22: PC-48122 | C22: Durango, CO | D22: Wool socks, 3 pack | E22: 2 | F22: 32 | G22: =ROUND(E22*F22*VLOOKUP("CO",Rates!$A$2:$B$7,2,FALSE()),2) -> 4.79 | H22: =E22*F22+G22 -> 68.79
A23: 46275 | B23: PC-48123 | C23: Missoula, MT | D23: Fleece pullover | E23: 1 | F23: 79 | G23: =ROUND(E23*F23*VLOOKUP("MT",Rates!$A$2:$B$7,2,FALSE()),2) -> 0 | H23: =E23*F23+G23 -> 79
A24: 46276 | B24: PC-48124 | C24: Spokane, WA | D24: Trekking poles, pair | E24: 4 | F24: 99 | G24: =ROUND(E24*F24*VLOOKUP("WA",Rates!$A$2:$B$7,2,FALSE()),2) -> 35.24 | H24: =E24*F24+G24 -> 431.24
A25: 46277 | B25: PC-48125 | C25: Spokane, WA | D25: Trekking poles, pair | E25: 3 | F25: 99 | G25: =ROUND(E25*F25*VLOOKUP("WA",Rates!$A$2:$B$7,2,FALSE()),2) -> 26.43 | H25: =E25*F25+G25 -> 323.43
A26: 46277 | B26: PC-48126 | C26: Missoula, MT | D26: Water filter | E26: 2 | F26: 39.5 | G26: =ROUND(E26*F26*VLOOKUP("MT",Rates!$A$2:$B$7,2,FALSE()),2) -> 0 | H26: =E26*F26+G26 -> 79
A27: 46277 | B27: PC-48127 | C27: Spokane, WA | D27: Daypack, 24 L | E27: 3 | F27: 109 | G27: =ROUND(E27*F27*VLOOKUP("WA",Rates!$A$2:$B$7,2,FALSE()),2) -> 29.1 | H27: =E27*F27+G27 -> 356.1
A28: 46277 | B28: PC-48128 | C28: Spokane, WA | D28: Rain shell | E28: 2 | F28: 189 | G28: =ROUND(E28*F28*VLOOKUP("WA",Rates!$A$2:$B$7,2,FALSE()),2) -> 33.64 | H28: =E28*F28+G28 -> 411.64
A29: 46278 | B29: PC-48129 | C29: Bend, OR | D29: Camp stove | E29: 1 | F29: 64.95 | G29: =ROUND(E29*F29*VLOOKUP("OR",Rates!$A$2:$B$7,2,FALSE()),2) -> 0 | H29: =E29*F29+G29 -> 64.95
A30: 46279 | B30: PC-48130 | C30: Missoula, MT | D30: Trail runner, women's | E30: 1 | F30: 129 | G30: =ROUND(E30*F30*VLOOKUP("MT",Rates!$A$2:$B$7,2,FALSE()),2) -> 0 | H30: =E30*F30+G30 -> 129
A31: 46280 | B31: PC-48131 | C31: Boise, ID | D31: Sleeping pad | E31: 1 | F31: 119 | G31: =ROUND(E31*F31*VLOOKUP("ID",Rates!$A$2:$B$7,2,FALSE()),2) -> 7.14 | H31: =E31*F31+G31 -> 126.14
A32: 46280 | B32: PC-48132 | C32: Bend, OR | D32: Sleeping pad | E32: 2 | F32: 119 | G32: =ROUND(E32*F32*VLOOKUP("OR",Rates!$A$2:$B$7,2,FALSE()),2) -> 0 | H32: =E32*F32+G32 -> 238
A33: 46280 | B33: PC-48133 | C33: Flagstaff, AZ | D33: Fleece pullover | E33: 1 | F33: 79 | G33: =ROUND(E33*F33*VLOOKUP("AZ",Rates!$A$2:$B$7,2,FALSE()),2) -> 7.12 | H33: =E33*F33+G33 -> 86.12
A34: 46280 | B34: PC-48134 | C34: Flagstaff, AZ | D34: Trail runner, men's | E34: 4 | F34: 129 | G34: =ROUND(E34*F34*VLOOKUP("AZ",Rates!$A$2:$B$7,2,FALSE()),2) -> 46.49 | H34: =E34*F34+G34 -> 562.49
A35: 46280 | B35: PC-48135 | C35: Durango, CO | D35: Camp stove | E35: 1 | F35: 64.95 | G35: =ROUND(E35*F35*VLOOKUP("CO",Rates!$A$2:$B$7,2,FALSE()),2) -> 4.86 | H35: =E35*F35+G35 -> 69.81
A36: 46280 | B36: PC-48136 | C36: Bend, OR | D36: Water filter | E36: 3 | F36: 39.5 | G36: =ROUND(E36*F36*VLOOKUP("OR",Rates!$A$2:$B$7,2,FALSE()),2) -> 0 | H36: =E36*F36+G36 -> 118.5
A37: 46281 | B37: PC-48137 | C37: Durango, CO | D37: Daypack, 24 L | E37: 1 | F37: 109 | G37: =ROUND(E37*F37*VLOOKUP("CO",Rates!$A$2:$B$7,2,FALSE()),2) -> 8.16 | H37: =E37*F37+G37 -> 117.16
A38: 46281 | B38: PC-48138 | C38: Spokane, WA | D38: Wool socks, 3 pack | E38: 1 | F38: 32 | G38: =ROUND(E38*F38*VLOOKUP("WA",Rates!$A$2:$B$7,2,FALSE()),2) -> 2.85 | H38: =E38*F38+G38 -> 34.85
A39: 46281 | B39: PC-48139 | C39: Bend, OR | D39: Two-person tent | E39: 3 | F39: 349 | G39: =ROUND(E39*F39*VLOOKUP("OR",Rates!$A$2:$B$7,2,FALSE()),2) -> 0 | H39: =E39*F39+G39 -> 1047
A40: 46281 | B40: PC-48140 | C40: Boise, ID | D40: Wool socks, 3 pack | E40: 1 | F40: 32 | G40: =ROUND(E40*F40*VLOOKUP("ID",Rates!$A$2:$B$7,2,FALSE()),2) -> 1.92 | H40: =E40*F40+G40 -> 33.92
...

Sheet Rates
A1: State | B1: Sales tax rate
A2: OR | B2: 0
A3: ID | B3: 0.06
A4: MT | B4: 0
A5: WA | B5: 0.089
A6: AZ | B6: 0.0901
A7: CO | B7: 0.0749
