Workbook

Sheet Summary
A1: Pinecrest Outdoor Supply: store sales, Q3 2026
A2: Pinecrest Outdoor Supply is a fictional company. Sample workbook for pdfconversionapi.com, released under CC0 1.0.
A4: Store | B4: July | C4: August | D4: September | E4: Q3 total | F4: Q2 total | G4: Change
A5: Bend, OR | B5: 136420 | C5: 146430 | D5: 146680 | E5: =SUM(B5:D5) -> 429530 | F5: 412300 | G5: =E5/F5-1 -> 0.041789959
A6: Boise, ID | B6: 112870 | C6: 98540 | D6: 100820 | E6: =SUM(B6:D6) -> 312230 | F6: 298750 | G6: =E6/F6-1 -> 0.045121339
A7: Missoula, MT | B7: 67730 | C7: 67200 | D7: 69890 | E7: =SUM(B7:D7) -> 204820 | F7: 187400 | G7: =E7/F7-1 -> 0.092956243
A8: Spokane, WA | B8: 127780 | C8: 131910 | D8: 132760 | E8: =SUM(B8:D8) -> 392450 | F8: 356900 | G8: =E8/F8-1 -> 0.099607733
A9: Flagstaff, AZ | B9: 89610 | C9: 87090 | D9: 81790 | E9: =SUM(B9:D9) -> 258490 | F9: 241600 | G9: =E9/F9-1 -> 0.06990894
A10: Durango, CO | B10: 73590 | C10: 67110 | D10: 76190 | E10: =SUM(B10:D10) -> 216890 | F10: 203150 | G10: =E10/F10-1 -> 0.067634753
A11: All stores | B11: =SUM(B5:B10) -> 608000 | C11: =SUM(C5:C10) -> 598280 | D11: =SUM(D5:D10) -> 608130 | E11: =SUM(E5:E10) -> 1814410 | F11: =SUM(F5:F10) -> 1700100 | G11: =E11/F11-1 -> 0.067237221

Sheet Orders
A1: Date | B1: Order | C1: Store | D1: Item | E1: Qty | F1: Unit price | G1: Sales tax | H1: Total
A2: 46267 | B2: PC-48102 | C2: Bend, OR | D2: Camp stove | E2: 2 | F2: 64.95 | G2: =ROUND(E2*F2*VLOOKUP("OR",Rates!$A$2:$B$7,2,FALSE()),2) -> 0 | H2: =E2*F2+G2 -> 129.9
A3: 46267 | B3: PC-48103 | C3: Boise, ID | D3: Two-person tent | E3: 1 | F3: 349 | G3: =ROUND(E3*F3*VLOOKUP("ID",Rates!$A$2:$B$7,2,FALSE()),2) -> 20.94 | H3: =E3*F3+G3 -> 369.94
A4: 46267 | B4: PC-48104 | C4: Missoula, MT | D4: Two-person tent | E4: 3 | F4: 349 | G4: =ROUND(E4*F4*VLOOKUP("MT",Rates!$A$2:$B$7,2,FALSE()),2) -> 0 | H4: =E4*F4+G4 -> 1047
A5: 46267 | B5: PC-48105 | C5: Durango, CO | D5: Water filter | E5: 1 | F5: 39.5 | G5: =ROUND(E5*F5*VLOOKUP("CO",Rates!$A$2:$B$7,2,FALSE()),2) -> 2.96 | H5: =E5*F5+G5 -> 42.46
A6: 46267 | B6: PC-48106 | C6: Missoula, MT | D6: Sleeping pad | E6: 1 | F6: 119 | G6: =ROUND(E6*F6*VLOOKUP("MT",Rates!$A$2:$B$7,2,FALSE()),2) -> 0 | H6: =E6*F6+G6 -> 119
A7: 46267 | B7: PC-48107 | C7: Bend, OR | D7: Daypack, 24 L | E7: 1 | F7: 109 | G7: =ROUND(E7*F7*VLOOKUP("OR",Rates!$A$2:$B$7,2,FALSE()),2) -> 0 | H7: =E7*F7+G7 -> 109
A8: 46267 | B8: PC-48108 | C8: Spokane, WA | D8: Two-person tent | E8: 1 | F8: 349 | G8: =ROUND(E8*F8*VLOOKUP("WA",Rates!$A$2:$B$7,2,FALSE()),2) -> 31.06 | H8: =E8*F8+G8 -> 380.06
A9: 46268 | B9: PC-48109 | C9: Flagstaff, AZ | D9: Trekking poles, pair | E9: 2 | F9: 99 | G9: =ROUND(E9*F9*VLOOKUP("AZ",Rates!$A$2:$B$7,2,FALSE()),2) -> 17.84 | H9: =E9*F9+G9 -> 215.84
A10: 46268 | B10: PC-48110 | C10: Spokane, WA | D10: Trekking poles, pair | E10: 4 | F10: 99 | G10: =ROUND(E10*F10*VLOOKUP("WA",Rates!$A$2:$B$7,2,FALSE()),2) -> 35.24 | H10: =E10*F10+G10 -> 431.24
A11: 46269 | B11: PC-48111 | C11: Spokane, WA | D11: Trekking poles, pair | E11: 1 | F11: 99 | G11: =ROUND(E11*F11*VLOOKUP("WA",Rates!$A$2:$B$7,2,FALSE()),2) -> 8.81 | H11: =E11*F11+G11 -> 107.81
A12: 46270 | B12: PC-48112 | C12: Flagstaff, AZ | D12: Sleeping pad | E12: 2 | F12: 119 | G12: =ROUND(E12*F12*VLOOKUP("AZ",Rates!$A$2:$B$7,2,FALSE()),2) -> 21.44 | H12: =E12*F12+G12 -> 259.44
A13: 46270 | B13: PC-48113 | C13: Flagstaff, AZ | D13: Fleece pullover | E13: 4 | F13: 79 | G13: =ROUND(E13*F13*VLOOKUP("AZ",Rates!$A$2:$B$7,2,FALSE()),2) -> 28.47 | H13: =E13*F13+G13 -> 344.47
A14: 46270 | B14: PC-48114 | C14: Bend, OR | D14: Daypack, 24 L | E14: 2 | F14: 109 | G14: =ROUND(E14*F14*VLOOKUP("OR",Rates!$A$2:$B$7,2,FALSE()),2) -> 0 | H14: =E14*F14+G14 -> 218
A15: 46270 | B15: PC-48115 | C15: Durango, CO | D15: Wool socks, 3 pack | E15: 2 | F15: 32 | G15: =ROUND(E15*F15*VLOOKUP("CO",Rates!$A$2:$B$7,2,FALSE()),2) -> 4.79 | H15: =E15*F15+G15 -> 68.79
A16: 46271 | B16: PC-48116 | C16: Boise, ID | D16: Sleeping pad | E16: 1 | F16: 119 | G16: =ROUND(E16*F16*VLOOKUP("ID",Rates!$A$2:$B$7,2,FALSE()),2) -> 7.14 | H16: =E16*F16+G16 -> 126.14
A17: 46271 | B17: PC-48117 | C17: Durango, CO | D17: Daypack, 24 L | E17: 2 | F17: 109 | G17: =ROUND(E17*F17*VLOOKUP("CO",Rates!$A$2:$B$7,2,FALSE()),2) -> 16.33 | H17: =E17*F17+G17 -> 234.33
A18: 46272 | B18: PC-48118 | C18: Durango, CO | D18: Trekking poles, pair | E18: 1 | F18: 99 | G18: =ROUND(E18*F18*VLOOKUP("CO",Rates!$A$2:$B$7,2,FALSE()),2) -> 7.42 | H18: =E18*F18+G18 -> 106.42
A19: 46273 | B19: PC-48119 | C19: Durango, CO | D19: Headlamp, 400 lm | E19: 2 | F19: 44.95 | G19: =ROUND(E19*F19*VLOOKUP("CO",Rates!$A$2:$B$7,2,FALSE()),2) -> 6.73 | H19: =E19*F19+G19 -> 96.63
A20: 46274 | B20: PC-48120 | C20: Spokane, WA | D20: Two-person tent | E20: 1 | F20: 349 | G20: =ROUND(E20*F20*VLOOKUP("WA",Rates!$A$2:$B$7,2,FALSE()),2) -> 31.06 | H20: =E20*F20+G20 -> 380.06
A21: 46274 | B21: PC-48121 | C21: Missoula, MT | D21: Trail runner, men's | E21: 1 | F21: 129 | G21: =ROUND(E21*F21*VLOOKUP("MT",Rates!$A$2:$B$7,2,FALSE()),2) -> 0 | H21: =E21*F21+G21 -> 129
A22: 46274 | B22: PC-48122 | C22: Durango, CO | D22: Wool socks, 3 pack | E22: 2 | F22: 32 | G22: =ROUND(E22*F22*VLOOKUP("CO",Rates!$A$2:$B$7,2,FALSE()),2) -> 4.79 | H22: =E22*F22+G22 -> 68.79
A23: 46275 | B23: PC-48123 | C23: Missoula, MT | D23: Fleece pullover | E23: 1 | F23: 79 | G23: =ROUND(E23*F23*VLOOKUP("MT",Rates!$A$2:$B$7,2,FALSE()),2) -> 0 | H23: =E23*F23+G23 -> 79
A24: 46276 | B24: PC-48124 | C24: Spokane, WA | D24: Trekking poles, pair | E24: 4 | F24: 99 | G24: =ROUND(E24*F24*VLOOKUP("WA",Rates!$A$2:$B$7,2,FALSE()),2) -> 35.24 | H24: =E24*F24+G24 -> 431.24
A25: 46277 | B25: PC-48125 | C25: Spokane, WA | D25: Trekking poles, pair | E25: 3 | F25: 99 | G25: =ROUND(E25*F25*VLOOKUP("WA",Rates!$A$2:$B$7,2,FALSE()),2) -> 26.43 | H25: =E25*F25+G25 -> 323.43
A26: 46277 | B26: PC-48126 | C26: Missoula, MT | D26: Water filter | E26: 2 | F26: 39.5 | G26: =ROUND(E26*F26*VLOOKUP("MT",Rates!$A$2:$B$7,2,FALSE()),2) -> 0 | H26: =E26*F26+G26 -> 79
A27: 46277 | B27: PC-48127 | C27: Spokane, WA | D27: Daypack, 24 L | E27: 3 | F27: 109 | G27: =ROUND(E27*F27*VLOOKUP("WA",Rates!$A$2:$B$7,2,FALSE()),2) -> 29.1 | H27: =E27*F27+G27 -> 356.1
A28: 46277 | B28: PC-48128 | C28: Spokane, WA | D28: Rain shell | E28: 2 | F28: 189 | G28: =ROUND(E28*F28*VLOOKUP("WA",Rates!$A$2:$B$7,2,FALSE()),2) -> 33.64 | H28: =E28*F28+G28 -> 411.64
A29: 46278 | B29: PC-48129 | C29: Bend, OR | D29: Camp stove | E29: 1 | F29: 64.95 | G29: =ROUND(E29*F29*VLOOKUP("OR",Rates!$A$2:$B$7,2,FALSE()),2) -> 0 | H29: =E29*F29+G29 -> 64.95
A30: 46279 | B30: PC-48130 | C30: Missoula, MT | D30: Trail runner, women's | E30: 1 | F30: 129 | G30: =ROUND(E30*F30*VLOOKUP("MT",Rates!$A$2:$B$7,2,FALSE()),2) -> 0 | H30: =E30*F30+G30 -> 129
A31: 46280 | B31: PC-48131 | C31: Boise, ID | D31: Sleeping pad | E31: 1 | F31: 119 | G31: =ROUND(E31*F31*VLOOKUP("ID",Rates!$A$2:$B$7,2,FALSE()),2) -> 7.14 | H31: =E31*F31+G31 -> 126.14
A32: 46280 | B32: PC-48132 | C32: Bend, OR | D32: Sleeping pad | E32: 2 | F32: 119 | G32: =ROUND(E32*F32*VLOOKUP("OR",Rates!$A$2:$B$7,2,FALSE()),2) -> 0 | H32: =E32*F32+G32 -> 238
A33: 46280 | B33: PC-48133 | C33: Flagstaff, AZ | D33: Fleece pullover | E33: 1 | F33: 79 | G33: =ROUND(E33*F33*VLOOKUP("AZ",Rates!$A$2:$B$7,2,FALSE()),2) -> 7.12 | H33: =E33*F33+G33 -> 86.12
A34: 46280 | B34: PC-48134 | C34: Flagstaff, AZ | D34: Trail runner, men's | E34: 4 | F34: 129 | G34: =ROUND(E34*F34*VLOOKUP("AZ",Rates!$A$2:$B$7,2,FALSE()),2) -> 46.49 | H34: =E34*F34+G34 -> 562.49
A35: 46280 | B35: PC-48135 | C35: Durango, CO | D35: Camp stove | E35: 1 | F35: 64.95 | G35: =ROUND(E35*F35*VLOOKUP("CO",Rates!$A$2:$B$7,2,FALSE()),2) -> 4.86 | H35: =E35*F35+G35 -> 69.81
A36: 46280 | B36: PC-48136 | C36: Bend, OR | D36: Water filter | E36: 3 | F36: 39.5 | G36: =ROUND(E36*F36*VLOOKUP("OR",Rates!$A$2:$B$7,2,FALSE()),2) -> 0 | H36: =E36*F36+G36 -> 118.5
A37: 46281 | B37: PC-48137 | C37: Durango, CO | D37: Daypack, 24 L | E37: 1 | F37: 109 | G37: =ROUND(E37*F37*VLOOKUP("CO",Rates!$A$2:$B$7,2,FALSE()),2) -> 8.16 | H37: =E37*F37+G37 -> 117.16
A38: 46281 | B38: PC-48138 | C38: Spokane, WA | D38: Wool socks, 3 pack | E38: 1 | F38: 32 | G38: =ROUND(E38*F38*VLOOKUP("WA",Rates!$A$2:$B$7,2,FALSE()),2) -> 2.85 | H38: =E38*F38+G38 -> 34.85
A39: 46281 | B39: PC-48139 | C39: Bend, OR | D39: Two-person tent | E39: 3 | F39: 349 | G39: =ROUND(E39*F39*VLOOKUP("OR",Rates!$A$2:$B$7,2,FALSE()),2) -> 0 | H39: =E39*F39+G39 -> 1047
A40: 46281 | B40: PC-48140 | C40: Boise, ID | D40: Wool socks, 3 pack | E40: 1 | F40: 32 | G40: =ROUND(E40*F40*VLOOKUP("ID",Rates!$A$2:$B$7,2,FALSE()),2) -> 1.92 | H40: =E40*F40+G40 -> 33.92
A41: 46282 | B41: PC-48141 | C41: Spokane, WA | D41: Rain shell | E41: 2 | F41: 189 | G41: =ROUND(E41*F41*VLOOKUP("WA",Rates!$A$2:$B$7,2,FALSE()),2) -> 33.64 | H41: =E41*F41+G41 -> 411.64
A42: 46282 | B42: PC-48142 | C42: Spokane, WA | D42: Trail runner, men's | E42: 1 | F42: 129 | G42: =ROUND(E42*F42*VLOOKUP("WA",Rates!$A$2:$B$7,2,FALSE()),2) -> 11.48 | H42: =E42*F42+G42 -> 140.48
A43: 46283 | B43: PC-48143 | C43: Bend, OR | D43: Trail runner, men's | E43: 4 | F43: 129 | G43: =ROUND(E43*F43*VLOOKUP("OR",Rates!$A$2:$B$7,2,FALSE()),2) -> 0 | H43: =E43*F43+G43 -> 516
A44: 46283 | B44: PC-48144 | C44: Durango, CO | D44: Water filter | E44: 4 | F44: 39.5 | G44: =ROUND(E44*F44*VLOOKUP("CO",Rates!$A$2:$B$7,2,FALSE()),2) -> 11.83 | H44: =E44*F44+G44 -> 169.83
A45: 46283 | B45: PC-48145 | C45: Bend, OR | D45: Trekking poles, pair | E45: 2 | F45: 99 | G45: =ROUND(E45*F45*VLOOKUP("OR",Rates!$A$2:$B$7,2,FALSE()),2) -> 0 | H45: =E45*F45+G45 -> 198
A46: 46283 | B46: PC-48146 | C46: Durango, CO | D46: Headlamp, 400 lm | E46: 2 | F46: 44.95 | G46: =ROUND(E46*F46*VLOOKUP("CO",Rates!$A$2:$B$7,2,FALSE()),2) -> 6.73 | H46: =E46*F46+G46 -> 96.63
A47: 46283 | B47: PC-48147 | C47: Bend, OR | D47: Sleeping pad | E47: 2 | F47: 119 | G47: =ROUND(E47*F47*VLOOKUP("OR",Rates!$A$2:$B$7,2,FALSE()),2) -> 0 | H47: =E47*F47+G47 -> 238
A48: 46283 | B48: PC-48148 | C48: Boise, ID | D48: Wool socks, 3 pack | E48: 2 | F48: 32 | G48: =ROUND(E48*F48*VLOOKUP("ID",Rates!$A$2:$B$7,2,FALSE()),2) -> 3.84 | H48: =E48*F48+G48 -> 67.84
A49: 46283 | B49: PC-48149 | C49: Spokane, WA | D49: Wool socks, 3 pack | E49: 1 | F49: 32 | G49: =ROUND(E49*F49*VLOOKUP("WA",Rates!$A$2:$B$7,2,FALSE()),2) -> 2.85 | H49: =E49*F49+G49 -> 34.85
A50: 46284 | B50: PC-48150 | C50: Flagstaff, AZ | D50: Fleece pullover | E50: 3 | F50: 79 | G50: =ROUND(E50*F50*VLOOKUP("AZ",Rates!$A$2:$B$7,2,FALSE()),2) -> 21.35 | H50: =E50*F50+G50 -> 258.35
A51: 46284 | B51: PC-48151 | C51: Flagstaff, AZ | D51: Two-person tent | E51: 1 | F51: 349 | G51: =ROUND(E51*F51*VLOOKUP("AZ",Rates!$A$2:$B$7,2,FALSE()),2) -> 31.44 | H51: =E51*F51+G51 -> 380.44
A52: 46284 | B52: PC-48152 | C52: Durango, CO | D52: Rain shell | E52: 1 | F52: 189 | G52: =ROUND(E52*F52*VLOOKUP("CO",Rates!$A$2:$B$7,2,FALSE()),2) -> 14.16 | H52: =E52*F52+G52 -> 203.16
A53: 46284 | B53: PC-48153 | C53: Spokane, WA | D53: Camp stove | E53: 1 | F53: 64.95 | G53: =ROUND(E53*F53*VLOOKUP("WA",Rates!$A$2:$B$7,2,FALSE()),2) -> 5.78 | H53: =E53*F53+G53 -> 70.73
A54: 46285 | B54: PC-48154 | C54: Durango, CO | D54: Camp stove | E54: 1 | F54: 64.95 | G54: =ROUND(E54*F54*VLOOKUP("CO",Rates!$A$2:$B$7,2,FALSE()),2) -> 4.86 | H54: =E54*F54+G54 -> 69.81
A55: 46285 | B55: PC-48155 | C55: Durango, CO | D55: Trekking poles, pair | E55: 1 | F55: 99 | G55: =ROUND(E55*F55*VLOOKUP("CO",Rates!$A$2:$B$7,2,FALSE()),2) -> 7.42 | H55: =E55*F55+G55 -> 106.42
A56: 46285 | B56: PC-48156 | C56: Boise, ID | D56: Camp stove | E56: 4 | F56: 64.95 | G56: =ROUND(E56*F56*VLOOKUP("ID",Rates!$A$2:$B$7,2,FALSE()),2) -> 15.59 | H56: =E56*F56+G56 -> 275.39
A57: 46285 | B57: PC-48157 | C57: Spokane, WA | D57: Headlamp, 400 lm | E57: 2 | F57: 44.95 | G57: =ROUND(E57*F57*VLOOKUP("WA",Rates!$A$2:$B$7,2,FALSE()),2) -> 8 | H57: =E57*F57+G57 -> 97.9
A58: 46286 | B58: PC-48158 | C58: Bend, OR | D58: Two-person tent | E58: 1 | F58: 349 | G58: =ROUND(E58*F58*VLOOKUP("OR",Rates!$A$2:$B$7,2,FALSE()),2) -> 0 | H58: =E58*F58+G58 -> 349
A59: 46286 | B59: PC-48159 | C59: Missoula, MT | D59: Rain shell | E59: 1 | F59: 189 | G59: =ROUND(E59*F59*VLOOKUP("MT",Rates!$A$2:$B$7,2,FALSE()),2) -> 0 | H59: =E59*F59+G59 -> 189
A60: 46287 | B60: PC-48160 | C60: Spokane, WA | D60: Two-person tent | E60: 1 | F60: 349 | G60: =ROUND(E60*F60*VLOOKUP("WA",Rates!$A$2:$B$7,2,FALSE()),2) -> 31.06 | H60: =E60*F60+G60 -> 380.06
A61: 46288 | B61: PC-48161 | C61: Boise, ID | D61: Water filter | E61: 2 | F61: 39.5 | G61: =ROUND(E61*F61*VLOOKUP("ID",Rates!$A$2:$B$7,2,FALSE()),2) -> 4.74 | H61: =E61*F61+G61 -> 83.74
A62: 46289 | B62: PC-48162 | C62: Spokane, WA | D62: Trail runner, women's | E62: 2 | F62: 129 | G62: =ROUND(E62*F62*VLOOKUP("WA",Rates!$A$2:$B$7,2,FALSE()),2) -> 22.96 | H62: =E62*F62+G62 -> 280.96
A63: 46289 | B63: PC-48163 | C63: Bend, OR | D63: Fleece pullover | E63: 1 | F63: 79 | G63: =ROUND(E63*F63*VLOOKUP("OR",Rates!$A$2:$B$7,2,FALSE()),2) -> 0 | H63: =E63*F63+G63 -> 79
A64: 46289 | B64: PC-48164 | C64: Bend, OR | D64: Sleeping pad | E64: 3 | F64: 119 | G64: =ROUND(E64*F64*VLOOKUP("OR",Rates!$A$2:$B$7,2,FALSE()),2) -> 0 | H64: =E64*F64+G64 -> 357
A65: 46289 | B65: PC-48165 | C65: Spokane, WA | D65: Trekking poles, pair | E65: 4 | F65: 99 | G65: =ROUND(E65*F65*VLOOKUP("WA",Rates!$A$2:$B$7,2,FALSE()),2) -> 35.24 | H65: =E65*F65+G65 -> 431.24
A66: 46289 | B66: PC-48166 | C66: Bend, OR | D66: Water filter | E66: 4 | F66: 39.5 | G66: =ROUND(E66*F66*VLOOKUP("OR",Rates!$A$2:$B$7,2,FALSE()),2) -> 0 | H66: =E66*F66+G66 -> 158
A67: 46289 | B67: PC-48167 | C67: Missoula, MT | D67: Trekking poles, pair | E67: 3 | F67: 99 | G67: =ROUND(E67*F67*VLOOKUP("MT",Rates!$A$2:$B$7,2,FALSE()),2) -> 0 | H67: =E67*F67+G67 -> 297
A68: 46289 | B68: PC-48168 | C68: Bend, OR | D68: Wool socks, 3 pack | E68: 3 | F68: 32 | G68: =ROUND(E68*F68*VLOOKUP("OR",Rates!$A$2:$B$7,2,FALSE()),2) -> 0 | H68: =E68*F68+G68 -> 96
A69: 46289 | B69: PC-48169 | C69: Flagstaff, AZ | D69: Wool socks, 3 pack | E69: 3 | F69: 32 | G69: =ROUND(E69*F69*VLOOKUP("AZ",Rates!$A$2:$B$7,2,FALSE()),2) -> 8.65 | H69: =E69*F69+G69 -> 104.65
A70: 46289 | B70: PC-48170 | C70: Flagstaff, AZ | D70: Headlamp, 400 lm | E70: 2 | F70: 44.95 | G70: =ROUND(E70*F70*VLOOKUP("AZ",Rates!$A$2:$B$7,2,FALSE()),2) -> 8.1 | H70: =E70*F70+G70 -> 98
A71: 46289 | B71: PC-48171 | C71: Durango, CO | D71: Trekking poles, pair | E71: 1 | F71: 99 | G71: =ROUND(E71*F71*VLOOKUP("CO",Rates!$A$2:$B$7,2,FALSE()),2) -> 7.42 | H71: =E71*F71+G71 -> 106.42
A72: 46289 | B72: PC-48172 | C72: Missoula, MT | D72: Trail runner, women's | E72: 2 | F72: 129 | G72: =ROUND(E72*F72*VLOOKUP("MT",Rates!$A$2:$B$7,2,FALSE()),2) -> 0 | H72: =E72*F72+G72 -> 258
A73: 46289 | B73: PC-48173 | C73: Bend, OR | D73: Camp stove | E73: 1 | F73: 64.95 | G73: =ROUND(E73*F73*VLOOKUP("OR",Rates!$A$2:$B$7,2,FALSE()),2) -> 0 | H73: =E73*F73+G73 -> 64.95
A74: 46289 | B74: PC-48174 | C74: Durango, CO | D74: Rain shell | E74: 3 | F74: 189 | G74: =ROUND(E74*F74*VLOOKUP("CO",Rates!$A$2:$B$7,2,FALSE()),2) -> 42.47 | H74: =E74*F74+G74 -> 609.47
A75: 46289 | B75: PC-48175 | C75: Flagstaff, AZ | D75: Water filter | E75: 1 | F75: 39.5 | G75: =ROUND(E75*F75*VLOOKUP("AZ",Rates!$A$2:$B$7,2,FALSE()),2) -> 3.56 | H75: =E75*F75+G75 -> 43.06
A76: 46289 | B76: PC-48176 | C76: Missoula, MT | D76: Water filter | E76: 1 | F76: 39.5 | G76: =ROUND(E76*F76*VLOOKUP("MT",Rates!$A$2:$B$7,2,FALSE()),2) -> 0 | H76: =E76*F76+G76 -> 39.5
A77: 46289 | B77: PC-48177 | C77: Missoula, MT | D77: Trail runner, women's | E77: 1 | F77: 129 | G77: =ROUND(E77*F77*VLOOKUP("MT",Rates!$A$2:$B$7,2,FALSE()),2) -> 0 | H77: =E77*F77+G77 -> 129
A78: 46290 | B78: PC-48178 | C78: Missoula, MT | D78: Two-person tent | E78: 1 | F78: 349 | G78: =ROUND(E78*F78*VLOOKUP("MT",Rates!$A$2:$B$7,2,FALSE()),2) -> 0 | H78: =E78*F78+G78 -> 349
A79: 46290 | B79: PC-48179 | C79: Bend, OR | D79: Fleece pullover | E79: 1 | F79: 79 | G79: =ROUND(E79*F79*VLOOKUP("OR",Rates!$A$2:$B$7,2,FALSE()),2) -> 0 | H79: =E79*F79+G79 -> 79
A80: 46290 | B80: PC-48180 | C80: Bend, OR | D80: Trail runner, women's | E80: 3 | F80: 129 | G80: =ROUND(E80*F80*VLOOKUP("OR",Rates!$A$2:$B$7,2,FALSE()),2) -> 0 | H80: =E80*F80+G80 -> 387
A81: 46290 | B81: PC-48181 | C81: Missoula, MT | D81: Sleeping pad | E81: 2 | F81: 119 | G81: =ROUND(E81*F81*VLOOKUP("MT",Rates!$A$2:$B$7,2,FALSE()),2) -> 0 | H81: =E81*F81+G81 -> 238
A82: 46290 | B82: PC-48182 | C82: Spokane, WA | D82: Water filter | E82: 2 | F82: 39.5 | G82: =ROUND(E82*F82*VLOOKUP("WA",Rates!$A$2:$B$7,2,FALSE()),2) -> 7.03 | H82: =E82*F82+G82 -> 86.03
A83: 46290 | B83: PC-48183 | C83: Flagstaff, AZ | D83: Sleeping pad | E83: 2 | F83: 119 | G83: =ROUND(E83*F83*VLOOKUP("AZ",Rates!$A$2:$B$7,2,FALSE()),2) -> 21.44 | H83: =E83*F83+G83 -> 259.44
A84: 46290 | B84: PC-48184 | C84: Durango, CO | D84: Water filter | E84: 4 | F84: 39.5 | G84: =ROUND(E84*F84*VLOOKUP("CO",Rates!$A$2:$B$7,2,FALSE()),2) -> 11.83 | H84: =E84*F84+G84 -> 169.83
A85: 46290 | B85: PC-48185 | C85: Spokane, WA | D85: Headlamp, 400 lm | E85: 4 | F85: 44.95 | G85: =ROUND(E85*F85*VLOOKUP("WA",Rates!$A$2:$B$7,2,FALSE()),2) -> 16 | H85: =E85*F85+G85 -> 195.8
A86: 46290 | B86: PC-48186 | C86: Bend, OR | D86: Daypack, 24 L | E86: 3 | F86: 109 | G86: =ROUND(E86*F86*VLOOKUP("OR",Rates!$A$2:$B$7,2,FALSE()),2) -> 0 | H86: =E86*F86+G86 -> 327
A87: 46291 | B87: PC-48187 | C87: Bend, OR | D87: Headlamp, 400 lm | E87: 3 | F87: 44.95 | G87: =ROUND(E87*F87*VLOOKUP("OR",Rates!$A$2:$B$7,2,FALSE()),2) -> 0 | H87: =E87*F87+G87 -> 134.85
A88: 46291 | B88: PC-48188 | C88: Missoula, MT | D88: Daypack, 24 L | E88: 4 | F88: 109 | G88: =ROUND(E88*F88*VLOOKUP("MT",Rates!$A$2:$B$7,2,FALSE()),2) -> 0 | H88: =E88*F88+G88 -> 436
A89: 46291 | B89: PC-48189 | C89: Missoula, MT | D89: Two-person tent | E89: 1 | F89: 349 | G89: =ROUND(E89*F89*VLOOKUP("MT",Rates!$A$2:$B$7,2,FALSE()),2) -> 0 | H89: =E89*F89+G89 -> 349
A90: 46291 | B90: PC-48190 | C90: Flagstaff, AZ | D90: Water filter | E90: 1 | F90: 39.5 | G90: =ROUND(E90*F90*VLOOKUP("AZ",Rates!$A$2:$B$7,2,FALSE()),2) -> 3.56 | H90: =E90*F90+G90 -> 43.06
A91: 46291 | B91: PC-48191 | C91: Durango, CO | D91: Trail runner, women's | E91: 1 | F91: 129 | G91: =ROUND(E91*F91*VLOOKUP("CO",Rates!$A$2:$B$7,2,FALSE()),2) -> 9.66 | H91: =E91*F91+G91 -> 138.66

Sheet Rates
A1: State | B1: Sales tax rate
A2: OR | B2: 0
A3: ID | B3: 0.06
A4: MT | B4: 0
A5: WA | B5: 0.089
A6: AZ | B6: 0.0901
A7: CO | B7: 0.0749
